BEGIN:VCALENDAR
VERSION:2.0
PRODID:-//Tukios.com/
BEGIN:VEVENT
UID:c05a232e-e32f-4874-865f-0d3d63556d7d@www.robertsandsonfh.com
DTSTAMP:20260422T022532Z
DTSTART:20260424T193000Z
DTEND:20260424T203000Z
SUMMARY:Celebration of Life
DESCRIPTION:
URL:https://www.robertsandsonfh.com/obituaries/donald-white
LOCATION: 120 W Padon Ave  Blackwell OK 74631
GEO:36.8025535;-97.2839697
END:VEVENT
END:VCALENDAR